BEGIN:VCALENDAR
VERSION:2.0
PRODID:-//Centre for Development Studies
CALSCALE:GREGORIAN
METHOD:PUBLISH
X-WR-CALNAME:Centre for Development Studies
X-ORIGINAL-URL:https://cds.edu/event/seminar-by-dr-chidambaran-g-iyer/
X-WR-CALDESC:Webinar by Dr. Chidambaran G Iyer
BEGIN:VEVENT
DTSTART:20211119T153000
DTEND:20211119T170000
SUMMARY:Webinar by Dr. Chidambaran G Iyer
DESCRIPTION:19 November 2021
LOCATION:
END:VEVENT
END:VCALENDAR
